BEGIN:VCALENDAR
VERSION:2.0
PRODID:-//Ejby Medborgerhus - ECPv6.15.20//NONSGML v1.0//EN
CALSCALE:GREGORIAN
METHOD:PUBLISH
X-ORIGINAL-URL:https://ejby-medborgerhus.dk
X-WR-CALDESC:Begivenheder for Ejby Medborgerhus
REFRESH-INTERVAL;VALUE=DURATION:PT1H
X-Robots-Tag:noindex
X-PUBLISHED-TTL:PT1H
BEGIN:VTIMEZONE
TZID:Europe/Copenhagen
BEGIN:DAYLIGHT
TZOFFSETFROM:+0100
TZOFFSETTO:+0200
TZNAME:CEST
DTSTART:20250330T010000
END:DAYLIGHT
BEGIN:STANDARD
TZOFFSETFROM:+0200
TZOFFSETTO:+0100
TZNAME:CET
DTSTART:20251026T010000
END:STANDARD
BEGIN:DAYLIGHT
TZOFFSETFROM:+0100
TZOFFSETTO:+0200
TZNAME:CEST
DTSTART:20260329T010000
END:DAYLIGHT
BEGIN:STANDARD
TZOFFSETFROM:+0200
TZOFFSETTO:+0100
TZNAME:CET
DTSTART:20261025T010000
END:STANDARD
BEGIN:DAYLIGHT
TZOFFSETFROM:+0100
TZOFFSETTO:+0200
TZNAME:CEST
DTSTART:20270328T010000
END:DAYLIGHT
BEGIN:STANDARD
TZOFFSETFROM:+0200
TZOFFSETTO:+0100
TZNAME:CET
DTSTART:20271031T010000
END:STANDARD
END:VTIMEZONE
BEGIN:VEVENT
DTSTART;TZID=Europe/Copenhagen:20260118T110000
DTEND;TZID=Europe/Copenhagen:20260118T114500
DTSTAMP:20260424T224159
CREATED:20260111T011943Z
LAST-MODIFIED:20260111T012320Z
UID:779-1768734000-1768736700@ejby-medborgerhus.dk
SUMMARY:Hvad fatter gør er altid det rigtige
DESCRIPTION:Familieforestilling \n\n\n\nH.C. Andersens historie om et naivt positivt livssyn og to menneskers grænseløse kærlighed og om de reelle værdier i livet.  \n\n\n\nDukketeateret er en dejlig teateroplevelse.  \n\n\n\nH.C. Andersens ville have klappet i sine store hænder! \n\n\n\nTilmelding -> https://berneteater.nemtilmeld.dk
URL:https://ejby-medborgerhus.dk/event/hvad-fatter-goer-er-altid-det-rigtige/
ATTACH;FMTTYPE=image/jpeg:https://ejby-medborgerhus.dk/wp-content/uploads/2026/01/Hvad-fatter-goer-er-altid-det-rigtige.jpg
END:VEVENT
END:VCALENDAR